BEGIN:VCALENDAR
VERSION:2.0
PRODID:-//CY-GRP - ECPv6.8.2.1//NONSGML v1.0//EN
CALSCALE:GREGORIAN
METHOD:PUBLISH
X-WR-CALNAME:CY-GRP
X-ORIGINAL-URL:https://www.cy-grp.com
X-WR-CALDESC:Events for CY-GRP
REFRESH-INTERVAL;VALUE=DURATION:PT1H
X-Robots-Tag:noindex
X-PUBLISHED-TTL:PT1H
BEGIN:VTIMEZONE
TZID:Asia/Shanghai
BEGIN:STANDARD
TZOFFSETFROM:+0800
TZOFFSETTO:+0800
TZNAME:CST
DTSTART:20230101T000000
END:STANDARD
END:VTIMEZONE
BEGIN:VEVENT
DTSTART;TZID=Asia/Shanghai:20240123T093000
DTEND;TZID=Asia/Shanghai:20240123T173000
DTSTAMP:20260420T114437
CREATED:20240105T073918Z
LAST-MODIFIED:20240110T031151Z
UID:9107-1706002200-1706031000@www.cy-grp.com
SUMMARY:AutoCount v2 New Features HRDF Training Class - January 2024 (EN)
DESCRIPTION:January 2024 Training Class Schedule Updated!\nPlease register your seat by clicking the following link. \nAutoCount v2 New Features Training\nCourse Fee: RM 700/pax (HRDF Claimable)\n* Free seat for customer with active support maintenance subscription with C Y Multitrade Sdn Bhd. Please contact us for more information. \n23th Jan 2023 (Tuesday) – English\nTime: 9:30am to 5:30pm\nRegistration: Click Here for Registration
URL:https://www.cy-grp.com/event/autocount-v2-new-features-hrdf-training-class-january-2024-en/
LOCATION:C Y Multitrade Sdn Bhd\, 18A\, Jalan LP 1a/1\, Lestari Perdana\, 43300 Seri Kembangan\, Selangor\, Seri Kembangan\, Selangor\, 4330\, Malaysia
CATEGORIES:AutoCount v2 New Features,HRDF Training Course
END:VEVENT
BEGIN:VEVENT
DTSTART;TZID=Asia/Shanghai:20240118T093000
DTEND;TZID=Asia/Shanghai:20240118T173000
DTSTAMP:20260420T114437
CREATED:20240105T073228Z
LAST-MODIFIED:20240105T074622Z
UID:9103-1705570200-1705599000@www.cy-grp.com
SUMMARY:AutoCount Accounting v2 Fundamental HRDF Training Class - January 2024 (CN)
DESCRIPTION:January 2024 Training Class Schedule Updated!\nPlease register your seat by clicking the following link. \nAutoCount Accounting v2 Fundamental Training 基础培训班\nCourse Fee: RM 700/pax (HRDF Claimable)\n* Free seat provided for Customer with Active Yearly Support Maintenance Subscription with C Y Multitrade Sdn Bhd \n18th Jan 2023 (Thursday) – 中文\nTime: 9:30am to 5:30pm\nRegistration: Click Here for Registration
URL:https://www.cy-grp.com/event/autocount-accounting-v2-fundamental-hrdf-training-class-january-2024-cn/
LOCATION:C Y Multitrade Sdn Bhd\, 18A\, Jalan LP 1a/1\, Lestari Perdana\, 43300 Seri Kembangan\, Selangor\, Seri Kembangan\, Selangor\, 4330\, Malaysia
CATEGORIES:AutoCount Accounting v2 Fundamental Training,HRDF Training Course
END:VEVENT
BEGIN:VEVENT
DTSTART;TZID=Asia/Shanghai:20240111T093000
DTEND;TZID=Asia/Shanghai:20240111T173000
DTSTAMP:20260420T114437
CREATED:20240105T072848Z
LAST-MODIFIED:20240105T074321Z
UID:9099-1704965400-1704994200@www.cy-grp.com
SUMMARY:AutoCount Accounting v2 Fundamental HRDF Training Class - January 2024 (EN)
DESCRIPTION:January 2024 Training Class Schedule Updated!\nPlease register your seat by clicking the following link \nAutoCount Accounting v2 Fundamental Training 基础培训班\nCourse Fee: RM 700/pax (HRDF Claimable)\n* Free seat provided for Customer with Active Yearly Support Maintenance Subscription with C Y Multitrade Sdn Bhd \n11th Jan 2024 (Thursday) – English\nTime: 9:30am to 5:30pm\nRegistration: Click Here for Registration
URL:https://www.cy-grp.com/event/autocount-accounting-v2-fundamental-hrdf-training-class-january-2024-en/
LOCATION:C Y Multitrade Sdn Bhd\, 18A\, Jalan LP 1a/1\, Lestari Perdana\, 43300 Seri Kembangan\, Selangor\, Seri Kembangan\, Selangor\, 4330\, Malaysia
CATEGORIES:AutoCount Accounting v2 Fundamental Training,HRDF Training Course
END:VEVENT
BEGIN:VEVENT
DTSTART;TZID=Asia/Shanghai:20231214T140000
DTEND;TZID=Asia/Shanghai:20231214T170000
DTSTAMP:20260420T114437
CREATED:20231212T080743Z
LAST-MODIFIED:20231212T080743Z
UID:9090-1702562400-1702573200@www.cy-grp.com
SUMMARY:e-Invoice Sharing - December 2023 (EN)
DESCRIPTION:e-Invoice Sharing \ne-Invoice  你必须知道的事 \nLHDN electronic invoice (e-invoice) will be officially implemented in 2024 by companies with an annual turnover of RM100 million. \nLHDN 电子发票（e-invoice）即将在2024年正式由年度营业额RM1亿的公司开始实行。 \n所有企业 –    2025 年 7 月 1 日之前 \n  \nCOVERED TOPICS \n1. How e-Invoice impacts businesses and consumers \n电子发票如何影响企业和消费者 \n2. A step-by-step guide to the e-Invoice process \n分享 LHDN 电子发票流程 \n3.  What is e-Invoice \n电子发票是什么 \n4. What is the required field for e-Invoice? \n电子发票里究竟需要填写什么资料呢？ \n  \nAre you ready for your upcoming e-invoicing?   \n您准备好迎接即将到来的电子发票了吗？   \nSign up for our free online course now to learn what e-Invoice is. \n 马上报名我们免费的线上课程让你了解什么是 e-Invoice  \n  \nTRAINING DETAIL \ne-Invoice(English) 英文课程 \nDate : 13th Dec 2023 (Wed) – English \nTime : 09:30am – 1:00pm \nPlace: Online 线上/ No. 18\, Jalan LP 1A/1\, Taman Lestari Perdana\, Seri Kembangan\, \nSelangor Darul Ehsan.(Classroom with LIMITED seat) \n  \nRegistration Link 报名链接: \nClick Here for Registration
URL:https://www.cy-grp.com/event/e-invoice-sharing-december-2023-en/
LOCATION:Selangor
CATEGORIES:e-Invoice
END:VEVENT
BEGIN:VEVENT
DTSTART;TZID=Asia/Shanghai:20231207T093000
DTEND;TZID=Asia/Shanghai:20231207T123000
DTSTAMP:20260420T114437
CREATED:20231212T080231Z
LAST-MODIFIED:20231212T080257Z
UID:9086-1701941400-1701952200@www.cy-grp.com
SUMMARY:e-Invoice Sharing - December 2023 (CN)
DESCRIPTION:e-Invoice Sharing \ne-Invoice  你必须知道的事 \nLHDN electronic invoice (e-invoice) will be officially implemented in 2024 by companies with an annual turnover of RM100 million. \nLHDN 电子发票（e-invoice）即将在2024年正式由年度营业额RM1亿的公司开始实行。 \n所有企业 –    2025 年 7 月 1 日之前 \n  \nTRAINING DETAIL \ne-Invoice (Mandarin)中文课程 \nDate : 07th Dec 2023 (Thu) – Mandarin 中文 \nTime : 09:30am – 1.00pm \nPlace: Online 线上/ No. 18\, Jalan LP 1A/1\, Taman Lestari Perdana\, Seri Kembangan\, \nSelangor Darul Ehsan.(Classroom with LIMITED seat) \nRegistration: Click Here for Registration \n  \nCOVERED TOPICS \n1. How e-Invoice impacts businesses and consumers \n电子发票如何影响企业和消费者 \n2. A step-by-step guide to the e-Invoice process \n分享 LHDN 电子发票流程 \n3.  What is e-Invoice \n电子发票是什么 \n4. What is the required field for e-Invoice? \n电子发票里究竟需要填写什么资料呢？ \n  \nAre you ready for your upcoming e-invoicing?   \n您准备好迎接即将到来的电子发票了吗？   \nSign up for our free online course now to learn what e-Invoice is. \n 马上报名我们免费的线上课程让你了解什么是 e-Invoice 
URL:https://www.cy-grp.com/event/e-invoice-sharing-december-2023-cn/
LOCATION:Selangor
END:VEVENT
BEGIN:VEVENT
DTSTART;TZID=Asia/Shanghai:20230823T093000
DTEND;TZID=Asia/Shanghai:20230823T173000
DTSTAMP:20260420T114437
CREATED:20230727T080140Z
LAST-MODIFIED:20230925T012012Z
UID:6372-1692783000-1692811800@www.cy-grp.com
SUMMARY:HRDF Training Class - August 2023 (CN)
DESCRIPTION:August 2023 Training Class Schedule Updated!\nPlease register your seat by clicking the following link (different link for Mandarin Class & English Class) \nAutoCount Accounting v2 Fundamental Training 基础培训班\nCourse Fee: RM 700/pax (HRDF Claimable) \nFrom 16th change to 23th Aug 2023 (Wednesday) – 中文\nTime: 9:30am to 5:30pm\nRegistration: Click Here for Registration
URL:https://www.cy-grp.com/event/hrdf-training-class-august-2023-cn/
LOCATION:C Y Multitrade Sdn Bhd\, 18A\, Jalan LP 1a/1\, Lestari Perdana\, 43300 Seri Kembangan\, Selangor\, Seri Kembangan\, Selangor\, 4330\, Malaysia
CATEGORIES:AutoCount Accounting v2 Fundamental Training,HRDF Training Course
ATTACH;FMTTYPE=image/webp:https://www.cy-grp.com/wp-content/uploads/2023/07/aug2023.webp
END:VEVENT
BEGIN:VEVENT
DTSTART;TZID=Asia/Shanghai:20230817T093000
DTEND;TZID=Asia/Shanghai:20230817T173000
DTSTAMP:20260420T114437
CREATED:20230727T080734Z
LAST-MODIFIED:20230925T012141Z
UID:6380-1692264600-1692293400@www.cy-grp.com
SUMMARY:HRDF Training Class - August 2023 (ENG)
DESCRIPTION:August 2023 Training Class Schedule Updated!\nPlease register your seat by clicking the following link (different link for Mandarin Class & English Class) \nAutoCount Accounting v2 Fundamental Training 基础培训班\nCourse Fee: RM 700/pax (HRDF Claimable) \n17th Aug 2023 (Thursday) – English\nTime: 9:30am to 5:30pm\nRegistration: Click Here for Registration
URL:https://www.cy-grp.com/event/hrdf-training-class-august-2023-eng/
LOCATION:C Y Multitrade Sdn Bhd\, 18A\, Jalan LP 1a/1\, Lestari Perdana\, 43300 Seri Kembangan\, Selangor\, Seri Kembangan\, Selangor\, 4330\, Malaysia
CATEGORIES:AutoCount Accounting v2 Fundamental Training,HRDF Training Course
ATTACH;FMTTYPE=image/webp:https://www.cy-grp.com/wp-content/uploads/2023/07/aug2023.webp
END:VEVENT
END:VCALENDAR